BEGIN:VCALENDAR
VERSION:2.0
PRODID:-//Brezineves Events//EN
CALSCALE:GREGORIAN
BEGIN:VEVENT
UID:69e5e3d6089bf@brezineves.cz
DTSTAMP:20260420T102910
DTSTART:20260427T000000
DTEND:20260428T000000
SUMMARY:Jarní koncert žáků ZUŠ Cool Music
DESCRIPTION:
LOCATION:KC Béčko, Na Hlavní 14/41, Praha 8 - Březiněves
END:VEVENT
END:VCALENDAR
