BEGIN:VCALENDAR
VERSION:2.0
PRODID:-//Brezineves Events//EN
CALSCALE:GREGORIAN
BEGIN:VEVENT
UID:69e5f8ad65182@brezineves.cz
DTSTAMP:20260420T115805
DTSTART:20260504T000000
DTEND:20260505T000000
SUMMARY:Divadelní představení - Hypnotizér z autobusové zastávky
DESCRIPTION:
LOCATION:KC Béčko, Na Hlavní 14/41, Praha 8 - Březiněves
END:VEVENT
END:VCALENDAR
