BEGIN:VCALENDAR
VERSION:2.0
PRODID:-//Brezineves Events//EN
CALSCALE:GREGORIAN
BEGIN:VEVENT
UID:69ed6924e93b6@brezineves.cz
DTSTAMP:20260426T032348
DTSTART:20260521T000000
DTEND:20260522T000000
SUMMARY:Večer s historikem: Karolína Světlá v zrcadle dějin
DESCRIPTION:Srdečně vás zveme do knihovny Březiněves, o osobnosti české spisovatelky Karolíny Světlé,  jejím  životě  a odkazu  bude hovořit  přední historik prof. PhDr. Jaroslav Čechura DrSc. .
Nabídne širší historický kontext i nový pohled na její význam v českých dějinách.

LOCATION:Knihovna Březiněves, U Parku 140/3, Praha 8
END:VEVENT
END:VCALENDAR
