BEGIN:VCALENDAR
VERSION:2.0
PRODID:-//Brezineves Events//EN
CALSCALE:GREGORIAN
BEGIN:VEVENT
UID:69ea587639420@brezineves.cz
DTSTAMP:20260423T193550
DTSTART:20251228T000000
DTEND:20251229T000000
SUMMARY:Myslivecký hon v Bořanovickém háji
DESCRIPTION:V neděli 28. prosince 2025 se v Bořanovickém háji a jeho okolí uskuteční každoroční myslivecký hon, pořádaný Mysliveckým sdružením Bořanovice.
Prosíme všechny, aby mezi 9:00–16:00 dbali zvýšené opatrnosti a do této lokality raději nevstupovali.
Děkujeme za respektování pokynů a ohleduplnost.
LOCATION:Bořanovický háj
END:VEVENT
END:VCALENDAR
