BEGIN:VCALENDAR
VERSION:2.0
PRODID:-//Brezineves Events//EN
CALSCALE:GREGORIAN
BEGIN:VEVENT
UID:69e5e3c4e8c4d@brezineves.cz
DTSTAMP:20260420T102852
DTSTART:20250828T000000
DTEND:20250829T000000
SUMMARY:Beseda :  Vietnam  -  o zajímavostech z dějin a kultury země s orientalistkou PhDr. Petrou Müllerovou
DESCRIPTION:Srdečně Vás zveme do knihovny Březiněves na besedu .
Vietnam je země se zajímavou historií, tradicemi  a kulturníními  zajímavostmi.
Orientalistka a spisovatelka PhDr. Petra Müllerová  nás provede světem vietnamské minulosti
a ukáže, že máme s touto zemí více společného, než bychom si mysleli.
Rezervace na stránkách knihovny: Program | KnihovnaBrezineves.cz
LOCATION:Knihovna MČ Praha Březiněves
END:VEVENT
END:VCALENDAR
