BEGIN:VCALENDAR
VERSION:2.0
PRODID:-//Brezineves Events//EN
CALSCALE:GREGORIAN
BEGIN:VEVENT
UID:69e5d12637b7a@brezineves.cz
DTSTAMP:20260420T090926
DTSTART:20250210T000000
DTEND:20250211T000000
SUMMARY:Přednáška \&quot;O včelích produktech\&quot;
DESCRIPTION:
LOCATION:
END:VEVENT
END:VCALENDAR
