BEGIN:VCALENDAR
VERSION:2.0
PRODID:-//Brezineves Events//EN
CALSCALE:GREGORIAN
BEGIN:VEVENT
UID:69e73fab5b701@brezineves.cz
DTSTAMP:20260421T111315
DTSTART:20241124T000000
DTEND:20241125T000000
SUMMARY:Vítání občánků 2024
DESCRIPTION:Srdečně zveme rodiče s dětmi narozenými v roce 2023 - 2024 s trvalým pobytem v MČ Praha - Březiněves na vítání občánků,
dne 24. 11. 2024 od 15.00 hodin v komunitním centru KC Béčko na adrese Na Hlavní 14/41, Praha 8 - Březiněves.
V případě Vašeho zájmu se hlašte na telefonu 283 910 263 nebo na emailu: info@brezineves.cz  .

LOCATION:Komunitní centrum v Březiněvsi, Na Hlavní 14/41, Praha 8 - Březiněves
END:VEVENT
END:VCALENDAR
