BEGIN:VCALENDAR
VERSION:2.0
PRODID:-//Brezineves Events//EN
CALSCALE:GREGORIAN
BEGIN:VEVENT
UID:69eb35fbe5fe8@brezineves.cz
DTSTAMP:20260424T112059
DTSTART:20240614T000000
DTEND:20240617T000000
SUMMARY: UZAVŘENÍ ULICE U PARKU A UZAVŘENÍ DĚTSKÉHO HŘIŠTĚ
DESCRIPTION:Upozorňujeme obyvatele a řidiče na plánované uzavření ulice U Parku od pátku 14. 6. 2024 do neděle 16. 6. 2024 z důvodu pořádání hudebního festivalu. Tato opatření budou zahrnovat i uzavření přilehlého dětského hřiště. V rámci tohoto uzavření bude mimořádně autobusová linka č. 103 používat jako provizorní obratiště v horní části Březiněvsi. Pro návrat do konečné stanice Ládví bude městská linka využívat trasu přes ulici Vzdálenou (nová část) a ulici Johanitskou.
Obyvatele a zejména řidiče žádáme, aby v tento den neparkovali po obou stranách ulice a řídili se provizorním dopravním značením. Rodiče mohou využít druhé dětské hřiště v ulici Mikanových.
Děkujeme za vaši spolupráci a pochopení. 
LOCATION:
END:VEVENT
END:VCALENDAR
