BEGIN:VCALENDAR
VERSION:2.0
PRODID:-//Brezineves Events//EN
CALSCALE:GREGORIAN
BEGIN:VEVENT
UID:69e8a37a02ead@brezineves.cz
DTSTAMP:20260422T123122
DTSTART:20240328T000000
DTEND:20240331T000000
SUMMARY:ŘEHTÁNÍ A KLEPÁNÍ
DESCRIPTION:Zveme vás na tradiční řehtání a klepání, sraz v parku sv. Jana Nepomuckého v 15 hod. 
LOCATION:
END:VEVENT
END:VCALENDAR
