BEGIN:VCALENDAR
VERSION:2.0
PRODID:-//Brezineves Events//EN
CALSCALE:GREGORIAN
BEGIN:VEVENT
UID:69eb89a2a5a99@brezineves.cz
DTSTAMP:20260424T171754
DTSTART:20240314T000000
DTEND:20240315T000000
SUMMARY:Kurz rétoriky -  s Mgr. Martinem Jungem z Rétor institutu s.r.o. v  Praze
DESCRIPTION:Chcete poznat tajemství nejlepších řečníků a řečových profesionálů a chcete umět okouzlit a zaujmout své posluchače a zbavit se trémy?
Odpovědi na tyto otázky a mnoho dalšího se dozvíte na kurzu rétoriky odborníka z Rétor institutu v Praze Mgr. Martina Junga.
LOCATION:Knihovna MČ Praha Březiněves
END:VEVENT
END:VCALENDAR
