BEGIN:VCALENDAR
VERSION:2.0
PRODID:-//Brezineves Events//EN
CALSCALE:GREGORIAN
BEGIN:VEVENT
UID:69e4f6a270e27@brezineves.cz
DTSTAMP:20260419T173706
DTSTART:20240416T000000
DTEND:20240417T000000
SUMMARY:MOBILNÍ SBĚR  NEBEZPEČNÉHO ODPADU A JEDLÝCH OLEJŮ
DESCRIPTION:Mobilní sběr nebezpečného odpadu a jedlých olejů proběhne v ul. U Parku,přistavený automobil na náměstí před úřadem.
V rámci mobilního sběru jsou odebírány pouze níže uvedené odpady:• rozpouštědla• kyseliny• zásady• fotochemikálie• pesticidy• zářivky a jiný odpad s obsahem rtuti (teploměry)• olej a tuk (kromě jedlého)• barvy, tiskařské barvy, lepidla, pryskyřice• detergenty obsahující nebezpečné látky (čisticí prostředky)• léčiva• baterie a akumulátory• potravinářské oleje z domácností
LOCATION:ulice U Parku
END:VEVENT
END:VCALENDAR
