BEGIN:VCALENDAR
VERSION:2.0
PRODID:-//Brezineves Events//EN
CALSCALE:GREGORIAN
BEGIN:VEVENT
UID:69eb3452b8eb4@brezineves.cz
DTSTAMP:20260424T111354
DTSTART:20230904T000000
DTEND:20230905T000000
SUMMARY:UKONČENÍ SEZÓNY REKREAČNÍHO RYBNÍKA
DESCRIPTION:
Chtěli bychom Vás informovat, že letošní provoz rekreačního rybníka v Březiněvsi skončil v neděli 4. září. 


Děkujeme všem, kteří k nám přišli a těšíme se na Vás opět příští léto!

LOCATION:Rekreační areál Březiněves
END:VEVENT
END:VCALENDAR
