BEGIN:VCALENDAR
VERSION:2.0
PRODID:-//Brezineves Events//EN
CALSCALE:GREGORIAN
BEGIN:VEVENT
UID:69eb3163ae6ac@brezineves.cz
DTSTAMP:20260424T110123
DTSTART:20231014T000000
DTEND:20231015T000000
SUMMARY:DRAKIÁDA 
DESCRIPTION:Srdečně Vás zveme na druhý ročník březiněveské drakiády! 
Papírového draka si děti mohou vyrobit v dílničce 9-11 hodin v KC Béčku Březiněves. Nutná rezervace místa na www.kcbecko.cz
 
Společné pouštění draků a opékání buřtů bude probíhat od 16 hodin v ulici Zvěřinových.
Těšíme se na Vás! 
LOCATION:
END:VEVENT
END:VCALENDAR
