BEGIN:VCALENDAR
VERSION:2.0
PRODID:-//Brezineves Events//EN
CALSCALE:GREGORIAN
BEGIN:VEVENT
UID:69e7bbd1824a4@brezineves.cz
DTSTAMP:20260421T200257
DTSTART:20230227T000000
DTEND:20230228T000000
SUMMARY:AKTUÁLNÍ TERMÍNY SVOZU BIOODPADU 
DESCRIPTION:Vážení spoluobčané, uvádíme termín přistavení kontejneru pro odvoz bioopadu.



Do bioodpadu patří: tráva, listí, zbytky ovoce a zeleniny,


čajové sáčky, kávová sedlina, zbytky rostlin, košťály,


zbytky zeminy z květináčů, plevel, štěpka z větví a keřů,


větvičky, piliny, hobliny, kůra, seno, sláma. 



LOCATION:ulice U Parku
END:VEVENT
END:VCALENDAR
