BEGIN:VCALENDAR
VERSION:2.0
PRODID:-//Brezineves Events//EN
CALSCALE:GREGORIAN
BEGIN:VEVENT
UID:69e6568f4c2b3@brezineves.cz
DTSTAMP:20260420T183839
DTSTART:20230102T000000
DTEND:20230103T000000
SUMMARY:ZELENÁ ÚSPORÁM LIGHT 
DESCRIPTION:Od 09. 01. 2023 bude k dispozici nový dotační titul pro majitele především starých rodinných domů, které potřebují rychlé a účinné opatření na úsporu nákladů na topení.
O dotaci mohou žádat pouze majitel či spolumajitel domu. Současně musí všichni členové domácnosti mít přiznán starobní důchod, invalidní důchod 3. stupně anebo být příjemci příspěvku na bydlení.
Je možné financovat např. výměnu dveří, zateplení fasády, stropu či střechy objektu.
Státní fond životního prostředí vyplatí žadateli dopředu zálohu na pořízení těchto opatření ve výši max. 150 000 Kč a po realizaci, která může být prováděna i svépomocí, žadatel doloží fotodokumentaci před provedením opatření a po něm. Doloží úhradu za materiál a případné práce spojené se zateplením objektu.
Dotace se poskytuje ve výši 100 %. 
Veškeré informace naleznete zde.
LOCATION:
END:VEVENT
END:VCALENDAR
