BEGIN:VCALENDAR
VERSION:2.0
PRODID:-//Brezineves Events//EN
CALSCALE:GREGORIAN
BEGIN:VEVENT
UID:69ea9c2a0ce54@brezineves.cz
DTSTAMP:20260424T002442
DTSTART:20221207T000000
DTEND:20221208T000000
SUMMARY:ZÁPIS ZE ZASEDÁNÍ ZASTUPITELSTVA
DESCRIPTION:Zápis ze zasedání zastupitelstva MČ Praha-Březiněves ze dne 28. 11. 2022
LOCATION:
END:VEVENT
END:VCALENDAR
