BEGIN:VCALENDAR
VERSION:2.0
PRODID:-//Brezineves Events//EN
CALSCALE:GREGORIAN
BEGIN:VEVENT
UID:69e5f586a115a@brezineves.cz
DTSTAMP:20260420T114438
DTSTART:20220613T000000
DTEND:20220901T000000
SUMMARY:LETNÍ PROGRAMOVÁNÍ PRO NÁCTILETÉ V KNIHOVNĚ
DESCRIPTION:Zveme vás na cyklus programování pro náctileté. Kurz bude probíhat s lektorem Patrikem Tomáškem.
V průběhu kurzu se děti seznámí s programovacím jazykem C#, tvorbou webových stránek v HTML a CSS.  Programování her v programu scratch. 
Kurz bude každé pondělí a pátek 1 za 14 dní od 17 do 19 hodin.  Kurz začne  od 13. 06. 2022.
Více informací a rezervace na telefonním čísle: 775 351 895
LOCATION:Knihovna Březiněves
END:VEVENT
END:VCALENDAR
