BEGIN:VCALENDAR
VERSION:2.0
PRODID:-//Brezineves Events//EN
CALSCALE:GREGORIAN
BEGIN:VEVENT
UID:69e75f1889f07@brezineves.cz
DTSTAMP:20260421T132720
DTSTART:20220601T000000
DTEND:20220602T000000
SUMMARY:TENISOVÝ DĚTSKÝ DEN
DESCRIPTION:Srdečně zveme naše malé tenisty na dětský den. 
LOCATION:Tenisový areál TO Březiněves
END:VEVENT
END:VCALENDAR
