BEGIN:VCALENDAR
VERSION:2.0
PRODID:-//Brezineves Events//EN
CALSCALE:GREGORIAN
BEGIN:VEVENT
UID:69ecdfca4d292@brezineves.cz
DTSTAMP:20260425T173746
DTSTART:20220305T000000
DTEND:20220306T000000
SUMMARY:MOBILNÍ SBĚR OBJEMNÝCH ODPADŮ
DESCRIPTION:Vážení spoluobčané, uvádíme termín pro sběr mobilních odpadů, který bude probíhat ve spolupráci s FCC ČR a.s.
Předmětem mobilního sběru je: starý nábytek, podlahové krytiny, kovové odpady, sanitární keramika, autoskla, zrcadla, staré sportovní náčiní atd.
LOCATION:ulice U Parku
END:VEVENT
END:VCALENDAR
