BEGIN:VCALENDAR
VERSION:2.0
PRODID:-//Brezineves Events//EN
CALSCALE:GREGORIAN
BEGIN:VEVENT
UID:69e6fd2d081b7@brezineves.cz
DTSTAMP:20260421T062933
DTSTART:20211229T000000
DTEND:20211230T000000
SUMMARY:Hon v Bořanovickém lese
DESCRIPTION:


Myslivecké sdružení Bořanovice pořádá ve středu 29. 12. 2021 od 9:00 cca do 15:00 hon v Bořanovickém lese. 
 



LOCATION:Bořanovický háj
END:VEVENT
END:VCALENDAR
