BEGIN:VCALENDAR
VERSION:2.0
PRODID:-//Brezineves Events//EN
CALSCALE:GREGORIAN
BEGIN:VEVENT
UID:69e72523c11bf@brezineves.cz
DTSTAMP:20260421T092003
DTSTART:20211019T000000
DTEND:20211020T000000
SUMMARY:Záhady české historie s Prof. PhDr. Jaroslavem Čechurou DrSc. - akce je zrušena
DESCRIPTION:Omlouváme se . ale dnešní přednáška je zrušena ze zdravotních důvodů. Děkujeme za pochopení
LOCATION:Knihovna MČ Praha Březiněves
END:VEVENT
END:VCALENDAR
