BEGIN:VCALENDAR
VERSION:2.0
PRODID:-//Brezineves Events//EN
CALSCALE:GREGORIAN
BEGIN:VEVENT
UID:69e78d2483bce@brezineves.cz
DTSTAMP:20260421T164348
DTSTART:20210925T000000
DTEND:20210926T000000
SUMMARY:Přistavení velkoobjemových kontejnerů v Březiněvsi spol.  Pražské služby, a.s., hrazených MHMP
DESCRIPTION:
LOCATION:ul. Na Fabiánce, Ke Zdibům, U Parku, K Březince, Na Boleslavce 
END:VEVENT
END:VCALENDAR
