BEGIN:VCALENDAR
VERSION:2.0
PRODID:-//Brezineves Events//EN
CALSCALE:GREGORIAN
BEGIN:VEVENT
UID:69e69d5c678eb@brezineves.cz
DTSTAMP:20260420T234044
DTSTART:20201130T000000
DTEND:20201201T000000
SUMMARY:Záhady české historie s PhDr. Jaroslavem Čechurou DrSc.
DESCRIPTION:Přednáší PhDr. Jaroslav Čechura DrSc.
LOCATION:Knihovna MČ Praha Březiněves
END:VEVENT
END:VCALENDAR
