BEGIN:VCALENDAR
VERSION:2.0
PRODID:-//Brezineves Events//EN
CALSCALE:GREGORIAN
BEGIN:VEVENT
UID:69ebd816be598@brezineves.cz
DTSTAMP:20260424T225238
DTSTART:20190601T000000
DTEND:20190602T000000
SUMMARY:Kreslíme s andílkem
DESCRIPTION:Srdečně zveme děti s rodiči na prožitkové pastelový  seminář s malířkou Jarmilou Beranovou.
Rezervace je nutná. 
LOCATION:Knihovna Městské části Praha Březiněves
END:VEVENT
END:VCALENDAR
